BEGIN:VCALENDAR
VERSION:2.0
PRODID:-//Wayne County Fair - ECPv6.15.20//NONSGML v1.0//EN
CALSCALE:GREGORIAN
METHOD:PUBLISH
X-WR-CALNAME:Wayne County Fair
X-ORIGINAL-URL:https://waynecountyutahfair.com
X-WR-CALDESC:Events for Wayne County Fair
REFRESH-INTERVAL;VALUE=DURATION:PT1H
X-Robots-Tag:noindex
X-PUBLISHED-TTL:PT1H
BEGIN:VTIMEZONE
TZID:America/Denver
BEGIN:DAYLIGHT
TZOFFSETFROM:-0700
TZOFFSETTO:-0600
TZNAME:MDT
DTSTART:20250309T090000
END:DAYLIGHT
BEGIN:STANDARD
TZOFFSETFROM:-0600
TZOFFSETTO:-0700
TZNAME:MST
DTSTART:20251102T080000
END:STANDARD
BEGIN:DAYLIGHT
TZOFFSETFROM:-0700
TZOFFSETTO:-0600
TZNAME:MDT
DTSTART:20260308T090000
END:DAYLIGHT
BEGIN:STANDARD
TZOFFSETFROM:-0600
TZOFFSETTO:-0700
TZNAME:MST
DTSTART:20261101T080000
END:STANDARD
BEGIN:DAYLIGHT
TZOFFSETFROM:-0700
TZOFFSETTO:-0600
TZNAME:MDT
DTSTART:20270314T090000
END:DAYLIGHT
BEGIN:STANDARD
TZOFFSETFROM:-0600
TZOFFSETTO:-0700
TZNAME:MST
DTSTART:20271107T080000
END:STANDARD
END:VTIMEZONE
BEGIN:VEVENT
DTSTART;VALUE=DATE:20260810
DTEND;VALUE=DATE:20260811
DTSTAMP:20260422T214610
CREATED:20251105T214100Z
LAST-MODIFIED:20251121T012217Z
UID:460-1786320000-1786406399@waynecountyutahfair.com
SUMMARY:250 Miles Challenge (Walk • Run • Swim)
DESCRIPTION:Track your progress using whatever method works best for you. You can log your miles or reading hours with a fitness app\, keep notes in a reading or exercise journal\, use a spreadsheet\, or simply mark off each day on a calendar. When you reach your 250‑mile or 250‑hour goal\, submit your log as proof of completion to be entered into the drawing.
URL:https://waynecountyutahfair.com/event/250-miles/
END:VEVENT
BEGIN:VEVENT
DTSTART;VALUE=DATE:20260810
DTEND;VALUE=DATE:20260811
DTSTAMP:20260422T214610
CREATED:20251121T015518Z
LAST-MODIFIED:20251121T020036Z
UID:482-1786320000-1786406399@waynecountyutahfair.com
SUMMARY:250 Hours Reading Challenge
DESCRIPTION:Exercise your mind and explore new horizons: log 250 hours of reading between now and the celebration date. \n\n\nFlip through pages of history\, fiction\, non‑fiction\, or whatever sparks your curiosity. \n\n\nEach hour brings you one step closer to finishing the challenge—and straight into the drawing.
URL:https://waynecountyutahfair.com/event/250-hours/
END:VEVENT
END:VCALENDAR